BEGIN:VCALENDAR
VERSION:2.0
PRODID:-//wp-events-plugin.com//7.2.3.1//EN
BEGIN:VEVENT
UID:33@cipc.pipeclubs.com
DTSTART;VALUE=DATE:20220917
DTEND;VALUE=DATE:20220918
DTSTAMP:20221112T154227Z
URL:https://cipc.pipeclubs.com/events/swiss-championship-2022/
SUMMARY:Swiss Championship 2022
DESCRIPTION:Swiss Champi0ns 2022: Ladies - Rita Stählin\, Men - Jonathan L
 üssi
LOCATION:Restaurant Neubühl\, Hauptstrasse\, Wädenswil\, Zurich\, 8820\, 
 Bezirk Horgen\, Switzerland
GEO:47.2225;8.6549
X-APPLE-STRUCTURED-LOCATION;VALUE=URI;X-ADDRESS=Hauptstrasse\, Wädenswil\,
  Zurich\, 8820\, Bezirk Horgen\, Switzerland;X-APPLE-RADIUS=100;X-TITLE=Re
 staurant Neubühl:geo:47.2225,8.6549
END:VEVENT
END:VCALENDAR