BEGIN:VCALENDAR
VERSION:2.0
PRODID:-//wp-events-plugin.com//7.2.3.1//EN
BEGIN:VEVENT
UID:31@cipc.pipeclubs.com
DTSTART:20230331T163000Z
DTEND:20230331T180000Z
DTSTAMP:20221014T133547Z
URL:https://cipc.pipeclubs.com/events/staffelrauchen-zur-35-osterr-meister
 schaft/
SUMMARY:Staffelrauchen zur 35. Österr. Meisterschaft
DESCRIPTION:
LOCATION:Hotel Lengbachhof\, Hotel Lengbachhof\, A-3033 Altlengbach\, Lower
  Austria\, 3033\, Politischer Bezirk Baden\, Austria
GEO:48.15558;15.948333
X-APPLE-STRUCTURED-LOCATION;VALUE=URI;X-ADDRESS=Hotel Lengbachhof\, A-3033 
 Altlengbach\, Lower Austria\, 3033\, Politischer Bezirk Baden\, Austria;X-
 APPLE-RADIUS=100;X-TITLE=Hotel Lengbachhof:geo:48.15558,15.948333
END:VEVENT
END:VCALENDAR