BEGIN:VCALENDAR
VERSION:2.0
PRODID:-//wp-events-plugin.com//7.2.3.1//EN
BEGIN:VEVENT
UID:67@cipc.pipeclubs.com
DTSTART:20260530T090000Z
DTEND:20260530T170000Z
DTSTAMP:20260331T150908Z
URL:https://cipc.pipeclubs.com/events/polish-championship/
SUMMARY:Polish Championship
DESCRIPTION:[pdf-embedder url="https://cipc.pipeclubs.com/wp-content/upload
 s/2026/03/MP2026Poznan-zaproszenie-EN.pdf"]
LOCATION:Hotel Ilonn Poznan\, 16 Szarych Szeregov \, Poznan\, Poland
GEO:52.405679;16.931277
X-APPLE-STRUCTURED-LOCATION;VALUE=URI;X-ADDRESS=16 Szarych Szeregov \, Pozn
 an\, Poland;X-APPLE-RADIUS=100;X-TITLE=Hotel Ilonn Poznan:geo:52.405679,16
 .931277
END:VEVENT
END:VCALENDAR