BEGIN:VCALENDAR
VERSION:2.0
PRODID:-//wp-events-plugin.com//7.2.3.1//EN
BEGIN:VEVENT
UID:69@cipc.pipeclubs.com
DTSTART;VALUE=DATE:20261024
DTEND;VALUE=DATE:20261026
DTSTAMP:20260331T153731Z
URL:https://cipc.pipeclubs.com/events/pipe-world-cup-italy-2026/
SUMMARY:Pipe World Cup Italy 2026
DESCRIPTION:https://termefumose.it
LOCATION:Alexander Palace Hotel\, Via Martiri d'Ungheria\, 24\, Abano Terme
  PD\, Italy
GEO:45.349117;11.787303
X-APPLE-STRUCTURED-LOCATION;VALUE=URI;X-ADDRESS=Via Martiri d'Ungheria\, 24
 \, Abano Terme PD\, Italy;X-APPLE-RADIUS=100;X-TITLE=Alexander Palace Hote
 l:geo:45.349117,11.787303
END:VEVENT
END:VCALENDAR