BEGIN:VCALENDAR
VERSION:2.0
PRODID:-//wp-events-plugin.com//7.2.3.1//EN
BEGIN:VEVENT
UID:34@cipc.pipeclubs.com
DTSTART:20230319T090000Z
DTEND:20230319T170000Z
DTSTAMP:20230119T124857Z
URL:https://cipc.pipeclubs.com/events/open-danish-championship-in-slow-pip
 esmoking-2/
SUMMARY:Open Danish Championship in Slow Pipesmoking
DESCRIPTION:The doors will open at 10 am on a pipeshow with pipemakers and 
 sellers of estate pipes from Denmark\, Sweden and probably other countries
 . Last year we had participants from Italy and France\, too. We expect man
 y Danish and international pipesmokers to take advantage of this event to 
 meet fellow smokers and visit the pipe show. The well-known Danish Pipe Sh
 op will host a similar event on the preceding Saturday and thus\, the week
 end of the 18. and 19. of March will be the Copenhagen Pipe Show Weekend w
 ith broad international appeal.\n\nThe contest begins at 2 pm on Sunday.\n
 \nDue to the ever increasing costs\, inflation etc. we have had to raise t
 he price for participation to € 75 and to reduce the number of Stanwell 
 pipes we buy for the competition. This means that we have set a maximum of
  80 participants.
LOCATION:Serapionsordenen\, Haveselskabets vej 3A\, Copenhagen\, Capital Re
 gion\, København\, Denmark
GEO:55.672751;12.545384
X-APPLE-STRUCTURED-LOCATION;VALUE=URI;X-ADDRESS=Haveselskabets vej 3A\, Cop
 enhagen\, Capital Region\, København\, Denmark;X-APPLE-RADIUS=100;X-TITLE
 =Serapionsordenen:geo:55.672751,12.545384
END:VEVENT
END:VCALENDAR