BEGIN:VCALENDAR
VERSION:2.0
PRODID:-//wp-events-plugin.com//7.2.3.1//EN
BEGIN:VEVENT
UID:27@cipc.pipeclubs.com
DTSTART:20220925T110000Z
DTEND:20220925T160000Z
DTSTAMP:20220827T145636Z
URL:https://cipc.pipeclubs.com/events/nk-klei-pijp-roken-2022-meet-me-oirs
 chot/
SUMMARY:NK Klei Pijp roken 2022 MEET ME @ OIRSCHOT
DESCRIPTION:[pdf-embedder url="https://cipc.pipeclubs.com/wp-content/upload
 s/2022/08/NFP-OIRSCHOT-22-flyer-aankonding-Jun-2022.pdf" title="NFP - OIRS
 CHOT 22 flyer aankonding Jun 2022"]
ATTACH;FMTTYPE=image/jpeg:https://cipc.pipeclubs.com/wp-content/uploads/20
 14/02/logo-nfp.jpg
LOCATION:Hoeve 1827\, Oude Grintweg 90\, Oirschot\, North Brabant\, 5688 MB
 \, Netherlands
GEO:51.535596;5.313488
X-APPLE-STRUCTURED-LOCATION;VALUE=URI;X-ADDRESS=Oude Grintweg 90\, Oirschot
 \, North Brabant\, 5688 MB\, Netherlands;X-APPLE-RADIUS=100;X-TITLE=Hoeve 
 1827:geo:51.535596,5.313488
END:VEVENT
END:VCALENDAR