BEGIN:VCALENDAR
VERSION:2.0
PRODID:-//wp-events-plugin.com//7.2.3.1//EN
BEGIN:VEVENT
UID:66@cipc.pipeclubs.com
DTSTART;VALUE=DATE:20260523
DTEND;VALUE=DATE:20260524
DTSTAMP:20260418T182602Z
URL:https://cipc.pipeclubs.com/events/majstrovstva-slovenska/
SUMMARY:Majstrovstvá Slovenska
DESCRIPTION:[pdf-embedder url="https://cipc.pipeclubs.com/wp-content/upload
 s/2026/03/Pozvanka-26MS-MMM.pdf" title="Pozvanka 26MS MMM"]
LOCATION:Motel M\, Motel M\, Malacky\, Slovakia
GEO:48.463797;17.035964
X-APPLE-STRUCTURED-LOCATION;VALUE=URI;X-ADDRESS=Motel M\, Malacky\, Slovaki
 a;X-APPLE-RADIUS=100;X-TITLE=Motel M:geo:48.463797,17.035964
END:VEVENT
END:VCALENDAR