BEGIN:VCALENDAR
VERSION:2.0
PRODID:-//wp-events-plugin.com//7.2.3.1//EN
BEGIN:VEVENT
UID:26@cipc.pipeclubs.com
DTSTART:20220910T090000Z
DTEND:20220910T170000Z
DTSTAMP:20220807T181123Z
URL:https://cipc.pipeclubs.com/events/grand-prix-slovakia-2022/
SUMMARY:Grand Prix Slovakia 2022
DESCRIPTION:Slow pipe smoking contest for Individuals and Teams\nPipe Club 
 Nitra invites you to the Slow pipe smoking contest - Grand Prix Slovakia 2
 022.\n\nYou can sign in to a competition by sendig email to pipeclubnitra@
 gmail.com&nbsp\; till 4th September 2022.\n\nDo not forget to state in the
  application:\n\n 	names of participants\n 	list of teams\n 	whether you a
 lready have a competition pipe or you will buy it on the spot\n\nDownload 
 brochure\n\n[pdf-embedder url="https://cipc.pipeclubs.com/wp-content/uploa
 ds/2022/08/gp2022_pozvanka.pdf"]
ATTACH;FMTTYPE=image/jpeg:https://cipc.pipeclubs.com/wp-content/uploads/20
 22/08/LogoGP2022.png
LOCATION:Pivovar Sessler\, Pri Kalvárii 17\, Trnava\, Trnava\, 917 01\, Di
 strict of Trnava\, Slovakia
GEO:48.388406;17.575981
X-APPLE-STRUCTURED-LOCATION;VALUE=URI;X-ADDRESS=Pri Kalvárii 17\, Trnava\,
  Trnava\, 917 01\, District of Trnava\, Slovakia;X-APPLE-RADIUS=100;X-TITL
 E=Pivovar Sessler:geo:48.388406,17.575981
END:VEVENT
END:VCALENDAR