BEGIN:VCALENDAR
VERSION:2.0
PRODID:-//wp-events-plugin.com//7.2.3.1//EN
BEGIN:VEVENT
UID:72@cipc.pipeclubs.com
DTSTART;VALUE=DATE:20260912
DTEND;VALUE=DATE:20260913
DTSTAMP:20260401T074756Z
URL:https://cipc.pipeclubs.com/events/french-championship-2026/
SUMMARY:French Championship 2026
DESCRIPTION:
LOCATION:Morez Espace Lamartine\, Espace Lamartine\, Morez\, France
GEO:46.522121;6.021494
X-APPLE-STRUCTURED-LOCATION;VALUE=URI;X-ADDRESS=Espace Lamartine\, Morez\, 
 France;X-APPLE-RADIUS=100;X-TITLE=Morez Espace Lamartine:geo:46.522121,6.0
 21494
END:VEVENT
END:VCALENDAR