BEGIN:VCALENDAR
VERSION:2.0
PRODID:-//wp-events-plugin.com//7.2.3.1//EN
BEGIN:VEVENT
UID:73@cipc.pipeclubs.com
DTSTART:20260509T110000Z
DTEND:20260509T180000Z
DTSTAMP:20260401T075250Z
URL:https://cipc.pipeclubs.com/events/british-championship-2026/
SUMMARY:British Championship 2026
DESCRIPTION:
LOCATION:Kings Lock Public House\, 1 booth lane\, Middlewich\, England\, CW
 10 0JJ\, Cheshire \, United Kingdom
GEO:53.186954;-2.440953
X-APPLE-STRUCTURED-LOCATION;VALUE=URI;X-ADDRESS=1 booth lane\, Middlewich\,
  England\, CW10 0JJ\, Cheshire \, United Kingdom;X-APPLE-RADIUS=100;X-TITL
 E=Kings Lock Public House:geo:53.186954,-2.440953
END:VEVENT
END:VCALENDAR