BEGIN:VCALENDAR
VERSION:2.0
PRODID:-//wp-events-plugin.com//7.2.3.1//EN
BEGIN:VEVENT
UID:22@cipc.pipeclubs.com
DTSTART:20220610T220000Z
DTEND:20220611T180000Z
DTSTAMP:20220517T152102Z
URL:https://cipc.pipeclubs.com/events/balkan-cup/
SUMMARY:Balkan Cup
DESCRIPTION:\n\nThe second edition of the Balkan Cup of slow pipe smoking\,
  organized by the Balkan Pipe Clubs Association will take place in Buchare
 st\, on the 11th of June. The competition will start at 14:00 o'clock\, an
 d will be followed by a dinner. For further information\, please write at 
 raducucuta@yahoo.com or contact the organizers at +40722557986.
LOCATION:Strada Doamnei 11\, Strada Doamnei 11\, Bucharest\, 030051\, Roman
 ia
GEO:44.433362;26.100612
X-APPLE-STRUCTURED-LOCATION;VALUE=URI;X-ADDRESS=Strada Doamnei 11\, Buchare
 st\, 030051\, Romania;X-APPLE-RADIUS=100;X-TITLE=Strada Doamnei 11:geo:44.
 433362,26.100612
END:VEVENT
END:VCALENDAR