BEGIN:VCALENDAR
VERSION:2.0
PRODID:-//wp-events-plugin.com//7.2.3.1//EN
BEGIN:VEVENT
UID:70@cipc.pipeclubs.com
DTSTART;VALUE=DATE:20260530
DTEND;VALUE=DATE:20260601
DTSTAMP:20260401T063340Z
URL:https://cipc.pipeclubs.com/events/balkan-cup-2026/
SUMMARY:Balkan Cup 2026
DESCRIPTION:\n\n
LOCATION:AQUA Hotel\, AQUA Hotel\, Burgas\, Bulgaria
GEO:42.511076;27.467388
X-APPLE-STRUCTURED-LOCATION;VALUE=URI;X-ADDRESS=AQUA Hotel\, Burgas\, Bulga
 ria;X-APPLE-RADIUS=100;X-TITLE=AQUA Hotel:geo:42.511076,27.467388
END:VEVENT
END:VCALENDAR