BEGIN:VCALENDAR
VERSION:2.0
PRODID:-//wp-events-plugin.com//7.2.3.1//EN
BEGIN:VEVENT
UID:25@cipc.pipeclubs.com
DTSTART;VALUE=DATE:20220911
DTEND;VALUE=DATE:20220912
DTSTAMP:20220730T144808Z
URL:https://cipc.pipeclubs.com/events/51st-italian-slow-smoking-championsh
 ip-the-highest-slow-smoking-pipe-competition/
SUMMARY:51st Italian Slow Smoking Championship - the highest slow smoking p
 ipe competition
DESCRIPTION:For the first time\, the competition for the title of the best 
 slow smoker will take place above 2\,000 meters\, exactly at 2\,275 meters
  at Plan de Corones.\n&nbsp\;\nPROGRAM\n\nSaturday 10th September\nArrival
  and accommodation in the hotels\n5.00 pm approx. meeting point: comfortab
 le walk in the secret places of Brunico\n6.00 pm the two faces of the same
  tobacco by the Collegio del Tabacco: guided tasting of Amphora Virginia c
 ompetition tobacco at the Tschurtschenthaler Park pavillion (free upon res
 ervation)\n7.30 pm dinner and pipe smoking inaugural of the highest pipe c
 ompetition in the world\n\n&nbsp\;\n11 September 2022:\n- 9.30 am: meeting
  at the Riscone cable car square and 15-minute ascent by cable car to the 
 Plan de Corones 2\,276 meters.\nCAI Plan de Corones refuge at 2\,231 m. a.
 s.l.\, about a 5-minute walk from the cable car\n- 10.00 am: arrival at th
 e CAI Plan de Corones Refuge with a spectacular view over the entire Val P
 usteria).\n- 11.00: in collaboration with the Academy of the Pipe: present
 ation of the first wooden pipe of "Luna Nera" and a charity lottery at a s
 helter for women\n- 12.00: Pusterese lunch at the CAI Refuge\, possibility
  of walking\, spectacular view\n- 1.30 pm: 51st Slow Smoking Championship 
 - the highest slow smoking pipe competition in the world\n- For accompanyi
 ng persons\, it is possible to visit the Lumen Museum or the MMM (Messner 
 Mountain Museum)\n- 5.00 pm: end and descent to the valley by cable car\n&
 nbsp\;\n*&nbsp\;Comfortable and warm clothing is required if necessary\, c
 omfortable shoes\n&nbsp\;\nVenue of the race: CAI Plan de Corones Refuge -
  Brunico (BZ) 2.276 mt.\nAdress: Via Furcia\, 39031 Brunico BZ\nInfo and c
 osts: registration required by 08.28.2022&nbsp\;coronespipeclub@gmail.com&
 nbsp\;or\n+39 366 6428308 (Raccanello David - president)\nThe fabulous wor
 ld of the pipe: during the days there will be some of the most loved pipe 
 experts and pipemaker artisans\nOvernight: information at the Tourist Offi
 ce Brunico Kronplatz Turismo Tel. +39 0474 555722&nbsp\;info@bruneck.com\;
 \nOrganizer: Corones Pipe Club\, Brunico (BZ)\, Italy: the Corones Pipe Cl
 ub is a club of fans and lovers of pipe and tobacco\, based in Brunico\, t
 he first and only one in all of Alto Adige and recognized by the Pipa Club
  Italia .\nPatronage: Pipa Club Italia\n&nbsp\;\n
ATTACH;FMTTYPE=image/jpeg:https://cipc.pipeclubs.com/wp-content/uploads/20
 22/07/copertina_small-1.jpg
LOCATION:CAI Plan de Corones Refuge\, Via Furcia\, Brunico\, 39031\, Italy
GEO:46.740566;11.957245
X-APPLE-STRUCTURED-LOCATION;VALUE=URI;X-ADDRESS=Via Furcia\, Brunico\, 3903
 1\, Italy;X-APPLE-RADIUS=100;X-TITLE=CAI Plan de Corones Refuge:geo:46.740
 566,11.957245
END:VEVENT
END:VCALENDAR