BEGIN:VCALENDAR
VERSION:2.0
PRODID:-//wp-events-plugin.com//7.2.3.1//EN
BEGIN:VEVENT
UID:68@cipc.pipeclubs.com
DTSTART:20260424T080000Z
DTEND:20260425T170000Z
DTSTAMP:20260331T152807Z
URL:https://cipc.pipeclubs.com/events/38th-austrian-open-pipe-smoking-cham
 pionship/
SUMMARY:38th Austrian Open Pipe Smoking Championship
DESCRIPTION:[pdf-embedder url="https://cipc.pipeclubs.com/wp-content/upload
 s/2026/03/Englisch-38OM_pertlstein-2026-ankundigung-2.pdf" title="Englisch
  38ÖM_pertlstein 2026 ankündigung"]
LOCATION:Kulturhaus Johnsdorf-Brunn\, Brunn 148\, Fehring\, Austria
GEO:46.950935;16.008782
X-APPLE-STRUCTURED-LOCATION;VALUE=URI;X-ADDRESS=Brunn 148\, Fehring\, Austr
 ia;X-APPLE-RADIUS=100;X-TITLE=Kulturhaus Johnsdorf-Brunn:geo:46.950935,16.
 008782
END:VEVENT
END:VCALENDAR