BEGIN:VCALENDAR
VERSION:2.0
PRODID:-//wp-events-plugin.com//7.2.3.1//EN
BEGIN:VEVENT
UID:30@cipc.pipeclubs.com
DTSTART:20230401T123000Z
DTEND:20230401T150000Z
DTSTAMP:20221014T132255Z
URL:https://cipc.pipeclubs.com/events/35-offene-osterr-meisterschaft/
SUMMARY:35. offene österr. Meisterschaft
DESCRIPTION:&nbsp\;\n\nEinladung\n\n 	offene österr. Meisterschaft im Pfei
 felangzeitrauchen\n\n3033 AltlengbachSteinhäusl 8\n\n&nbsp\;&nbsp\;&nbsp\
 ;&nbsp\;&nbsp\;&nbsp\;&nbsp\;&nbsp\; Hotel Lengbachhof\n\n&nbsp\;&nbsp\;&n
 bsp\;&nbsp\;&nbsp\; 31. März und 01. April 2023\n\n&nbsp\;\n\nProgramm:\n
 \nFreitag: 17:30 Uhr „Mixed Blitzrauchen“ mit 1 g Tabak\n\nanschließe
 ndes gemeinsames Abendessen\n\n&nbsp\;\n\nSamstag: ab\n\nab 11:00 Uhr Regi
 strierung der Teilnehmer\n\n12:00 Uhr Mittagessen\n\n13.30 Uhr Eröffnung 
 und Begrüßung\n\n13:45 Uhr Start der 35. Österr. Meisterschaft
LOCATION:Hotel Lengbachhof\, Hotel Lengbachhof\, A-3033 Altlengbach\, Lower
  Austria\, 3033\, Politischer Bezirk Baden\, Austria
GEO:48.15558;15.948333
X-APPLE-STRUCTURED-LOCATION;VALUE=URI;X-ADDRESS=Hotel Lengbachhof\, A-3033 
 Altlengbach\, Lower Austria\, 3033\, Politischer Bezirk Baden\, Austria;X-
 APPLE-RADIUS=100;X-TITLE=Hotel Lengbachhof:geo:48.15558,15.948333
END:VEVENT
END:VCALENDAR