BEGIN:VCALENDAR
VERSION:2.0
PRODID:-//wp-events-plugin.com//7.2.3.1//EN
BEGIN:VEVENT
UID:71@cipc.pipeclubs.com
DTSTART;VALUE=DATE:20260515
DTEND;VALUE=DATE:20260518
DTSTAMP:20260401T063649Z
URL:https://cipc.pipeclubs.com/events/26th-cagli-pipe-festival/
SUMMARY:26th CAGLI PIPE FESTIVAL
DESCRIPTION:15-16-17 MAY 2026\nPreview of the contents of this new edition!
 \n\n&#x1f6e0\;&#xfe0f\;May 15: In the early afternoon\, two technical and 
 practical workshops on pipe making (info in the coming weeks)\nAperitif\, 
 dinner\, and a convivial welcome will follow.\n\nMay 16&#x1f91d\;&#x1f3fb\
 ;: Mini-master on Pipes and Tobacco\, Gin and Tonic\, Pecorino &amp\; Toba
 cco tasting\, two conferences\, one of which focuses on Tobacco\, and an e
 vening party.\n\n&#x1f5bc\;&#xfe0f\;May 17: triple and dynamic breakfast/t
 asting in the town square in multiple locations and with multiple types of
  tobacco\, historical insight into the 120th anniversary of "Non canta la 
 Raganella"\, Awards Ceremony for the 2nd edition of Tobacconist Pipe Speci
 alist (the best Tobacconist and the Top Five from Northern\, Central\, and
  Southern Italy) and the International Slow Smoking Competition 22nd Inter
 national Trophy "Città di Cagli".\n\n
LOCATION:Cagli\, Piazza Giacomo Matteotti 1\, Cagli\, Marche\, 61043\, Pesa
 ro e Urbino\, Italy
GEO:43.546578;12.648173
X-APPLE-STRUCTURED-LOCATION;VALUE=URI;X-ADDRESS=Piazza Giacomo Matteotti 1\
 , Cagli\, Marche\, 61043\, Pesaro e Urbino\, Italy;X-APPLE-RADIUS=100;X-TI
 TLE=Cagli:geo:43.546578,12.648173
END:VEVENT
END:VCALENDAR